View In:
ArcGIS JavaScript
ArcGIS Online Map Viewer
ArcGIS Earth
ArcMap
View Footprint In:
ArcGIS Online Map Viewer
Service Description: Raster_2022
Name: Raster_2022
Description:
Single Fused Map Cache: true
Tile Info:
- Height: 256
- Width: 256
- DPI: 96
-
Levels of Detail: 19
-
Level ID: 0
[ Start Tile, End Tile ]
- Resolution: 999274.4334633828
- Scale: 1.1511664496827164E9
-
Level ID: 1
[ Start Tile, End Tile ]
- Resolution: 499637.2167316914
- Scale: 5.755832248413582E8
-
Level ID: 2
[ Start Tile, End Tile ]
- Resolution: 249818.6083658457
- Scale: 2.877916124206791E8
-
Level ID: 3
[ Start Tile, End Tile ]
- Resolution: 124909.30418292285
- Scale: 1.4389580621033955E8
-
Level ID: 4
[ Start Tile, End Tile ]
- Resolution: 62454.65209146142
- Scale: 7.194790310516977E7
-
Level ID: 5
[ Start Tile, End Tile ]
- Resolution: 31227.32604573071
- Scale: 3.597395155258489E7
-
Level ID: 6
[ Start Tile, End Tile ]
- Resolution: 15613.663022865356
- Scale: 1.7986975776292443E7
-
Level ID: 7
[ Start Tile, End Tile ]
- Resolution: 7806.831511432678
- Scale: 8993487.888146222
-
Level ID: 8
[ Start Tile, End Tile ]
- Resolution: 3903.415755716339
- Scale: 4496743.944073111
-
Level ID: 9
[ Start Tile, End Tile ]
- Resolution: 1951.7078778581695
- Scale: 2248371.9720365554
-
Level ID: 10
[ Start Tile, End Tile ]
- Resolution: 975.8539389290847
- Scale: 1124185.9860182777
-
Level ID: 11
[ Start Tile, End Tile ]
- Resolution: 487.92696946454237
- Scale: 562092.9930091389
-
Level ID: 12
[ Start Tile, End Tile ]
- Resolution: 243.96348473227118
- Scale: 281046.4965045694
-
Level ID: 13
[ Start Tile, End Tile ]
- Resolution: 121.98174236613559
- Scale: 140523.2482522847
-
Level ID: 14
[ Start Tile, End Tile ]
- Resolution: 60.990871183067796
- Scale: 70261.62412614236
-
Level ID: 15
[ Start Tile, End Tile ]
- Resolution: 30.495435591533898
- Scale: 35130.81206307118
-
Level ID: 16
[ Start Tile, End Tile ]
- Resolution: 15.247717795766949
- Scale: 17565.40603153559
-
Level ID: 17
[ Start Tile, End Tile ]
- Resolution: 7.6238588978834745
- Scale: 8782.703015767795
-
Level ID: 18
[ Start Tile, End Tile ]
- Resolution: 3.8119294489417372
- Scale: 4391.351507883897
- Format: PNG
- Compression Quality: 0.0
- LERC Error: NaN
- Origin: X: -1.25938627483313E8
Y: 1.0091523910129659E8
- Spatial Reference: 103024
(6441)
Storage Info:
- Storage Format: esriMapCacheStorageModeCompactV2
- Packet Size: 128
Extent:
XMin: 2505000
YMin: 300000
XMax: 2620000
YMax: 590000
Spatial Reference: 103024
(6441)
Initial Extent:
XMin: 2505000
YMin: 300000
XMax: 2620000
YMax: 590000
Spatial Reference: 103024
(6441)
Full Extent:
XMin: 2505000
YMin: 300000
XMax: 2620000
YMax: 590000
Spatial Reference: 103024
(6441)
Pixel Size X: 0.5
Pixel Size Y: 0.5
Band Count: 4
Pixel Type: U8
RasterFunction Infos: {"rasterFunctionInfos": [{
"name": "None",
"description": "",
"help": ""
}]}
Mensuration Capabilities: Basic
Has Histograms: true
Has Colormap: false
Has Multi Dimensions : false
Rendering Rule:
Min Scale: 1124185.9860182777
Max Scale: 4391.351507883897
Min LOD: 10
Max LOD: 18
Copyright Text:
Service Data Type: esriImageServiceDataTypeGeneric
Min Values: 0, 0, 0, 0
Max Values: 255, 255, 255, 255
Mean Values: 95.329662792944, 96.951388647455, 86.797230199354, 192.17259375585
Standard Deviation Values: 34.458107158185, 30.885863525198, 33.036635219246, 109.62974640722
Object ID Field:
Fields:
None
Default Mosaic Method: Center
Allowed Mosaic Methods:
SortField:
SortValue: null
Mosaic Operator: First
Default Compression Quality: 75
Default Resampling Method: Bilinear
Max Record Count: null
Max Image Height: 4100
Max Image Width: 15000
Max Download Image Count: null
Max Mosaic Image Count: null
Allow Raster Function: true
Allow Copy: true
Allow Analysis: true
Allow Compute TiePoints: false
Supports Statistics: false
Supports Advanced Queries: false
Use StandardizedQueries: true
Raster Type Infos:
Name: Raster Dataset
Description: Supports all ArcGIS Raster Datasets
Help:
Has Raster Attribute Table: false
Edit Fields Info: null
Ownership Based AccessControl For Rasters: null
Child Resources:
Info
Histograms
Statistics
Key Properties
Legend
Raster Function Infos
Supported Operations:
Export Image
Identify
Measure
Compute Histograms
Compute Statistics Histograms
Get Samples
Compute Class Statistics
Query Boundary
Compute Pixel Location
Compute Angles
Validate
Project