{
 "currentVersion": 10.91,
 "serviceDescription": "Raster_2022",
 "name": "Raster_2022",
 "description": "",
 "extent": {
  "xmin": 2505000,
  "ymin": 300000,
  "xmax": 2620000,
  "ymax": 590000,
  "spatialReference": {
   "wkid": 103024,
   "latestWkid": 6441
  }
 },
 "initialExtent": {
  "xmin": 2505000,
  "ymin": 300000,
  "xmax": 2620000,
  "ymax": 590000,
  "spatialReference": {
   "wkid": 103024,
   "latestWkid": 6441
  }
 },
 "fullExtent": {
  "xmin": 2505000,
  "ymin": 300000,
  "xmax": 2620000,
  "ymax": 590000,
  "spatialReference": {
   "wkid": 103024,
   "latestWkid": 6441
  }
 },
 "hasMultidimensions": false,
 "pixelSizeX": 0.5,
 "pixelSizeY": 0.5,
 "datasetFormat": "TIFF",
 "uncompressedSize": 533600000000,
 "blockWidth": 512,
 "blockHeight": 512,
 "compressionType": "JPEG",
 "bandNames": [
  "Band #0",
  "Band #1",
  "Band #2",
  "Band #3"
 ],
 "allowCopy": true,
 "allowAnalysis": true,
 "bandCount": 4,
 "pixelType": "U8",
 "minPixelSize": 3.8119294489417377,
 "maxPixelSize": 975.8539389290848,
 "copyrightText": "",
 "serviceDataType": "esriImageServiceDataTypeGeneric",
 "serviceSourceType": "esriImageServiceSourceTypeDataset",
 "minValues": [
  0,
  0,
  0,
  0
 ],
 "maxValues": [
  255,
  255,
  255,
  255
 ],
 "meanValues": [
  95.329662792944,
  96.951388647455,
  86.797230199354,
  192.17259375585
 ],
 "stdvValues": [
  34.458107158185,
  30.885863525198,
  33.036635219246,
  109.62974640722
 ],
 "objectIdField": "",
 "fields": [],
 "capabilities": "Image,Metadata,Mensuration",
 "defaultMosaicMethod": "Center",
 "allowedMosaicMethods": "",
 "sortField": "",
 "sortValue": null,
 "sortAscending": true,
 "mosaicOperator": "First",
 "defaultCompressionQuality": 75,
 "defaultResamplingMethod": "Bilinear",
 "maxImageHeight": 4100,
 "maxImageWidth": 15000,
 "singleFusedMapCache": true,
 "tileInfo": {
  "rows": 256,
  "cols": 256,
  "dpi": 96,
  "format": "PNG",
  "compressionQuality": 0,
  "origin": {
   "x": -1.25938627483313E8,
   "y": 1.0091523910129659E8
  },
  "spatialReference": {
   "wkid": 103024,
   "latestWkid": 6441
  },
  "lods": [
   {
    "level": 0,
    "resolution": 999274.4334633828,
    "scale": 1.1511664496827164E9
   },
   {
    "level": 1,
    "resolution": 499637.2167316914,
    "scale": 5.755832248413582E8
   },
   {
    "level": 2,
    "resolution": 249818.6083658457,
    "scale": 2.877916124206791E8
   },
   {
    "level": 3,
    "resolution": 124909.30418292285,
    "scale": 1.4389580621033955E8
   },
   {
    "level": 4,
    "resolution": 62454.65209146142,
    "scale": 7.194790310516977E7
   },
   {
    "level": 5,
    "resolution": 31227.32604573071,
    "scale": 3.597395155258489E7
   },
   {
    "level": 6,
    "resolution": 15613.663022865356,
    "scale": 1.7986975776292443E7
   },
   {
    "level": 7,
    "resolution": 7806.831511432678,
    "scale": 8993487.888146222
   },
   {
    "level": 8,
    "resolution": 3903.415755716339,
    "scale": 4496743.944073111
   },
   {
    "level": 9,
    "resolution": 1951.7078778581695,
    "scale": 2248371.9720365554
   },
   {
    "level": 10,
    "resolution": 975.8539389290847,
    "scale": 1124185.9860182777
   },
   {
    "level": 11,
    "resolution": 487.92696946454237,
    "scale": 562092.9930091389
   },
   {
    "level": 12,
    "resolution": 243.96348473227118,
    "scale": 281046.4965045694
   },
   {
    "level": 13,
    "resolution": 121.98174236613559,
    "scale": 140523.2482522847
   },
   {
    "level": 14,
    "resolution": 60.990871183067796,
    "scale": 70261.62412614236
   },
   {
    "level": 15,
    "resolution": 30.495435591533898,
    "scale": 35130.81206307118
   },
   {
    "level": 16,
    "resolution": 15.247717795766949,
    "scale": 17565.40603153559
   },
   {
    "level": 17,
    "resolution": 7.6238588978834745,
    "scale": 8782.703015767795
   },
   {
    "level": 18,
    "resolution": 3.8119294489417372,
    "scale": 4391.351507883897
   }
  ]
 },
 "storageInfo": {
  "storageFormat": "esriMapCacheStorageModeCompactV2",
  "packetSize": 128
 },
 "cacheType": "Map",
 "allowRasterFunction": true,
 "rasterFunctionInfos": [
  {
   "name": "None",
   "description": "",
   "help": ""
  }
 ],
 "rasterTypeInfos": [
  {
   "name": "Raster Dataset",
   "description": "Supports all ArcGIS Raster Datasets",
   "help": ""
  }
 ],
 "mensurationCapabilities": "Basic",
 "hasHistograms": true,
 "hasColormap": false,
 "hasRasterAttributeTable": false,
 "minScale": 1124185.9860182777,
 "maxScale": 4391.351507883897,
 "minLOD": 10,
 "maxLOD": 18,
 "exportTilesAllowed": false,
 "supportsStatistics": false,
 "supportsAdvancedQueries": false,
 "editFieldsInfo": null,
 "ownershipBasedAccessControlForRasters": null,
 "allowComputeTiePoints": false,
 "useStandardizedQueries": true,
 "advancedQueryCapabilities": {
  "useStandardizedQueries": true,
  "supportsStatistics": false,
  "supportsOrderBy": false,
  "supportsDistinct": false,
  "supportsPagination": false
 },
 "spatialReference": {
  "wkid": 103024,
  "latestWkid": 6441
 }
}
