View In:
ArcGIS JavaScript
ArcGIS Online Map Viewer
ArcGIS Earth
ArcMap
View Footprint In:
ArcGIS Online Map Viewer
Service Description: Lidar_2020
Name: Lidar_2020
Description:
Single Fused Map Cache: false
Extent:
XMin: -82.80009
YMin: 29.82593
XMax: -82.4525
YMax: 30.5975
Spatial Reference: 4269
(4269)
Initial Extent:
XMin: -82.80009
YMin: 29.82593
XMax: -82.4525
YMax: 30.5975
Spatial Reference: 4269
(4269)
Full Extent:
XMin: -82.80009
YMin: 29.82593
XMax: -82.4525
YMax: 30.5975
Spatial Reference: 4269
(4269)
Pixel Size X: 9.259190197122982E-5
Pixel Size Y: 9.259210368414743E-5
Band Count: 1
Pixel Type: F32
RasterFunction Infos: {"rasterFunctionInfos": [{
"name": "None",
"description": "",
"help": ""
}]}
Mensuration Capabilities: Basic
Has Histograms: true
Has Colormap: false
Has Multi Dimensions : false
Rendering Rule:
Min Scale: 0
Max Scale: 0
Copyright Text:
Service Data Type: esriImageServiceDataTypeGeneric
Min Values: 9.0233840942383
Max Values: 223.13957214355
Mean Values: 115.68919200964
Standard Deviation Values: 32.605589494486
Object ID Field:
Fields:
None
Default Mosaic Method: Center
Allowed Mosaic Methods:
SortField:
SortValue: null
Mosaic Operator: First
Default Compression Quality: 75
Default Resampling Method: Bilinear
Max Record Count: null
Max Image Height: 4100
Max Image Width: 15000
Max Download Image Count: null
Max Mosaic Image Count: null
Allow Raster Function: true
Allow Copy: true
Allow Analysis: true
Allow Compute TiePoints: false
Supports Statistics: false
Supports Advanced Queries: false
Use StandardizedQueries: true
Raster Type Infos:
Name: Raster Dataset
Description: Supports all ArcGIS Raster Datasets
Help:
Has Raster Attribute Table: false
Edit Fields Info: null
Ownership Based AccessControl For Rasters: null
Child Resources:
Info
Histograms
Statistics
Key Properties
Legend
Raster Function Infos
Supported Operations:
Export Image
Identify
Measure
Compute Histograms
Compute Statistics Histograms
Get Samples
Compute Class Statistics
Query Boundary
Compute Pixel Location
Compute Angles
Validate
Project