{
 "currentVersion": 10.71,
 "serviceDescription": "LiDAR_2018",
 "name": "LiDAR_2018",
 "description": "",
 "extent": {
  "xmin": 2506286.4052584465,
  "ymin": 304922.6148217719,
  "xmax": 2615944.1067488836,
  "ymax": 585663.4921084046,
  "spatialReference": {
   "wkid": 102660,
   "latestWkid": 2238
  }
 },
 "initialExtent": {
  "xmin": 2506286.4052584465,
  "ymin": 304922.6148217719,
  "xmax": 2615944.1067488836,
  "ymax": 585663.4921084046,
  "spatialReference": {
   "wkid": 102660,
   "latestWkid": 2238
  }
 },
 "fullExtent": {
  "xmin": 2506286.4052584465,
  "ymin": 304922.6148217719,
  "xmax": 2615944.1067488836,
  "ymax": 585663.4921084046,
  "spatialReference": {
   "wkid": 102660,
   "latestWkid": 2238
  }
 },
 "pixelSizeX": 3.2808072489958455,
 "pixelSizeY": 3.280756290452867,
 "bandCount": 1,
 "pixelType": "F32",
 "minPixelSize": 0,
 "maxPixelSize": 0,
 "copyrightText": "",
 "serviceDataType": "esriImageServiceDataTypeGeneric",
 "minValues": [],
 "maxValues": [],
 "meanValues": [],
 "stdvValues": [],
 "objectIdField": "",
 "fields": [],
 "capabilities": "Image,Metadata,Mensuration",
 "defaultMosaicMethod": "Center",
 "allowedMosaicMethods": "",
 "sortField": "",
 "sortValue": null,
 "mosaicOperator": "First",
 "defaultCompressionQuality": 75,
 "defaultResamplingMethod": "Bilinear",
 "maxImageHeight": 4100,
 "maxImageWidth": 15000,
 "allowRasterFunction": true,
 "rasterFunctionInfos": [
  {
   "name": "None",
   "description": "",
   "help": ""
  }
 ],
 "rasterTypeInfos": [
  {
   "name": "Raster Dataset",
   "description": "Supports all ArcGIS Raster Datasets",
   "help": ""
  }
 ],
 "mensurationCapabilities": "Basic",
 "hasHistograms": false,
 "hasColormap": false,
 "hasRasterAttributeTable": false,
 "minScale": 0,
 "maxScale": 0,
 "exportTilesAllowed": false,
 "hasMultidimensions": false,
 "supportsStatistics": false,
 "supportsAdvancedQueries": false,
 "editFieldsInfo": null,
 "ownershipBasedAccessControlForRasters": null,
 "allowComputeTiePoints": false,
 "useStandardizedQueries": true,
 "advancedQueryCapabilities": {
  "useStandardizedQueries": true,
  "supportsStatistics": false,
  "supportsOrderBy": false,
  "supportsDistinct": false,
  "supportsPagination": false
 },
 "spatialReference": {
  "wkid": 102660,
  "latestWkid": 2238
 }
}
